BEGIN:VCALENDAR
VERSION:2.0
PRODID:-//Associazione Graffiti
CALSCALE:GREGORIAN
METHOD:PUBLISH
X-WR-CALNAME:Associazione Graffiti
X-ORIGINAL-URL:https://graffitiscuola.it/event/viaggio-fotografico-last-second-reportage-tunisia-21-25-aprile-2017/
X-WR-CALDESC:Viaggio Fotografico LAST SECOND: Reportage in Tunisia 21 &#8211; 25 Aprile 2017
BEGIN:VEVENT
DTSTART:20170421T000000
DTEND:20170425T000000
SUMMARY:Viaggio Fotografico LAST SECOND: Reportage in Tunisia 21 &#8211; 25 Aprile 2017
DESCRIPTION:Viaggio Fotografico - Reportage in Tunisia 21 - 25 Aprile 2017
LOCATION:Via Latina, 515
END:VEVENT
END:VCALENDAR
