BEGIN:VCALENDAR
VERSION:2.0
PRODID:-//Associazione Graffiti
CALSCALE:GREGORIAN
METHOD:PUBLISH
X-WR-CALNAME:Associazione Graffiti
X-ORIGINAL-URL:https://graffitiscuola.it/event/inaugurazione-mostra-fotografica-portrait-sabato-1-aprile-2017-ore-18/
X-WR-CALDESC:Mostra Fotografica &#8220;PORTRAIT&#8221; &#8211; Aprile 2017
BEGIN:VEVENT
DTSTART:20170401T180000
DTEND:20170504T000000
SUMMARY:Mostra Fotografica &#8220;PORTRAIT&#8221; &#8211; Aprile 2017
DESCRIPTION:Sabato 1 aprile 2017 ore 18 
INAUGURAZIONE MOSTRA FOTOGRAFICA "PORTRAIT" - Allievi Corso Ritratto
INGRESSO LIBERO
LOCATION:Via Latina, 515
END:VEVENT
END:VCALENDAR
