BEGIN:VCALENDAR
VERSION:2.0
PRODID:-//Associazione Graffiti
CALSCALE:GREGORIAN
METHOD:PUBLISH
X-WR-CALNAME:Associazione Graffiti
X-ORIGINAL-URL:https://graffitiscuola.it/event/libro-fotografico-racconti-un-altro-mondo-simone-rota-edizione-graffiti/
X-WR-CALDESC:Libro fotografico: “Racconti di un altro mondo” di Simone Rota Edizione Graffiti
BEGIN:VEVENT
DTSTART:
DTEND:
SUMMARY:Libro fotografico: “Racconti di un altro mondo” di Simone Rota Edizione Graffiti
DESCRIPTION:Libro fotografico: “Racconti di un altro mondo” di Simone Rota Edizione GRAFFITI
LOCATION:Via Latina, 515
END:VEVENT
END:VCALENDAR
