BEGIN:VCALENDAR
VERSION:2.0
PRODID:-//Associazione Graffiti
CALSCALE:GREGORIAN
METHOD:PUBLISH
X-WR-CALNAME:Associazione Graffiti
X-ORIGINAL-URL:https://graffitiscuola.it/event/workshop-full-immersion-adobe-lightroom-sabato-27-maggio-2017/
X-WR-CALDESC:Workshop Full-immersion di Lightroom &#8211; Sabato 27 maggio 2017 ore 9.30/17
BEGIN:VEVENT
DTSTART:20170527T093000
DTEND:20170527T170000
SUMMARY:Workshop Full-immersion di Lightroom &#8211; Sabato 27 maggio 2017 ore 9.30/17
DESCRIPTION:WORKSHOP FULL IMMERSION 
ADOBE LIGHTROOM
Sabato 27 maggio 2017  - ore 9.30/17 a cura del Photoreporter Luciano Cantarini
LOCATION:Via Latina, 515
END:VEVENT
END:VCALENDAR
