BEGIN:VCALENDAR
VERSION:2.0
PRODID:-//Associazione Graffiti
CALSCALE:GREGORIAN
METHOD:PUBLISH
X-WR-CALNAME:Associazione Graffiti
X-ORIGINAL-URL:https://graffitiscuola.it/event/presentazione-libro-fotografico-racconti-un-altro-mondo-simone-rota-giovedi-30-marzo-2017-ore-20/
X-WR-CALDESC:Presentazione Libro Fotografico: “Racconti da un altro mondo&#8221; di Simone Rota &#8211; Edizione Graffiti &#8211; Giovedì 30 marzo 2017 &#8211; ore 20
BEGIN:VEVENT
DTSTART:20170330T200000
DTEND:20170330T220000
SUMMARY:Presentazione Libro Fotografico: “Racconti da un altro mondo&#8221; di Simone Rota &#8211; Edizione Graffiti &#8211; Giovedì 30 marzo 2017 &#8211; ore 20
DESCRIPTION:Presentazione Libro Fotografico Graffiti: “RACCONTI DA UN ALTRO MONDO” di Simone Rota
Giovedì 30 marzo 2017 ore 20 presso la Graffiti
INGRESSO LIBERO
LOCATION:Via Latina, 515
END:VEVENT
END:VCALENDAR
