BEGIN:VCALENDAR
VERSION:2.0
PRODID:-//Associazione Graffiti
CALSCALE:GREGORIAN
METHOD:PUBLISH
X-WR-CALNAME:Associazione Graffiti
X-ORIGINAL-URL:https://graffitiscuola.it/event/mostra-fotografica-racconti-un-altro-mondo-foto-simone-rota-ed-emiliano-pinnizzotto/
X-WR-CALDESC:Mostra Fotografica: &#8220;RACCONTI DA UN ALTRO MONDO&#8221; &#8211; Foto di Simone Rota ed Emiliano Pinnizzotto
BEGIN:VEVENT
DTSTART:20170303T203000
DTEND:20170319T190000
SUMMARY:Mostra Fotografica: &#8220;RACCONTI DA UN ALTRO MONDO&#8221; &#8211; Foto di Simone Rota ed Emiliano Pinnizzotto
DESCRIPTION:Mostra Fotografica: "RACCONTI DA UN ALTRO MONDO" - Foto di Simone Rota ed Emiliano Pinnizzotto
LOCATION:
END:VEVENT
END:VCALENDAR
