BEGIN:VCALENDAR
VERSION:2.0
PRODID:-//Associazione Graffiti
CALSCALE:GREGORIAN
METHOD:PUBLISH
X-WR-CALNAME:Associazione Graffiti
X-ORIGINAL-URL:https://graffitiscuola.it/event/presentazione-del-libro-pittori-litalia-dipingevo-combattevo-fernando-ferrigno/
X-WR-CALDESC:Presentazione del libro: &#8220;I PITTORI CHE HANNO FATTO L’ITALIA &#8211; io dipingevo &#8230; io combattevo” di Fernando Ferrigno
BEGIN:VEVENT
DTSTART:20170310T180000
DTEND:20170310T200000
SUMMARY:Presentazione del libro: &#8220;I PITTORI CHE HANNO FATTO L’ITALIA &#8211; io dipingevo &#8230; io combattevo” di Fernando Ferrigno
DESCRIPTION:Presentazione del libro: "I PITTORI CHE HANNO FATTO L’ITALIA - io dipingevo ... io combattevo” 
di Fernando Ferrigno
Venerdì 10 marzo 2017 ore 18.00 Libreria Arion Feltrinelli 
LOCATION:Via Giovanni Pierluigi da Palestrina, 1  
END:VEVENT
END:VCALENDAR
