BEGIN:VCALENDAR
VERSION:2.0
PRODID:-//Associazione Graffiti
CALSCALE:GREGORIAN
METHOD:PUBLISH
X-WR-CALNAME:Associazione Graffiti
X-ORIGINAL-URL:https://graffitiscuola.it/event/mostra-fotografica-graffiti-bianco-nel-bianco-nero-analogico-sabrina-zimmitti/
X-WR-CALDESC:Mostra Fotografica Graffiti: &#8220;IL BIANCO NEL BIANCO E NERO ANALOGICO&#8221; di Sabrina Zimmitti
BEGIN:VEVENT
DTSTART:20170304T183000
DTEND:
SUMMARY:Mostra Fotografica Graffiti: &#8220;IL BIANCO NEL BIANCO E NERO ANALOGICO&#8221; di Sabrina Zimmitti
DESCRIPTION:Inaugurazione Mostra Fotografica Graffiti: "IL BIANCO NEL BIANCO E NERO ANALOGICO" di Sabrina Zimmitti
Sabato 4 marzo ore 19.30 presso la Sala Espositiva Graffiti
A seguire buffet
LOCATION:Via Latina, 515
END:VEVENT
END:VCALENDAR
