BEGIN:VCALENDAR
VERSION:2.0
PRODID:-//Associazione Graffiti
CALSCALE:GREGORIAN
METHOD:PUBLISH
X-WR-CALNAME:Associazione Graffiti
X-ORIGINAL-URL:https://graffitiscuola.it/event/visita-guidata-gratuita-mostra-fotografica-la-boca-abierta-cristina-garcia-roderomagnum-photos-sabato-25-febbraio-2017-ore-16/
X-WR-CALDESC:Visita guidata gratuita: Mostra Fotografica &#8220;Con la boca abierta&#8221;  di Cristina García Rodero/Magnum Photos  &#8211; Sabato 25 Febbraio 2017 ore 16
BEGIN:VEVENT
DTSTART:20170225T160000
DTEND:20170225T180000
SUMMARY:Visita guidata gratuita: Mostra Fotografica &#8220;Con la boca abierta&#8221;  di Cristina García Rodero/Magnum Photos  &#8211; Sabato 25 Febbraio 2017 ore 16
DESCRIPTION:Visita guidata gratuita a cura del Direttore della Graffiti Gianni Pinnizzotto alla Mostra Fotografica "Con la boca abierta"  di Cristina García Rodero/Magnum Photos  - Sabato 25 Febbraio 2017 ore 16
LOCATION:
END:VEVENT
END:VCALENDAR
