BEGIN:VCALENDAR
VERSION:2.0
PRODID:-//Associazione Graffiti
CALSCALE:GREGORIAN
METHOD:PUBLISH
X-WR-CALNAME:Associazione Graffiti
X-ORIGINAL-URL:https://graffitiscuola.it/event/seminario-fotografia-leggi-regolamenti-della-fotografia-sabato-11-marzo-2017-ore-17-00/
X-WR-CALDESC:Seminario di Fotografia: &#8220;LEGGI E REGOLAMENTI DELLA FOTOGRAFIA&#8221; &#8211; Sabato 11 marzo 2017 ore 17.00
BEGIN:VEVENT
DTSTART:20170311T170000
DTEND:
SUMMARY:Seminario di Fotografia: &#8220;LEGGI E REGOLAMENTI DELLA FOTOGRAFIA&#8221; &#8211; Sabato 11 marzo 2017 ore 17.00
DESCRIPTION:SEMINARIO DI FOTOGRAFIA GRAFFITI: "LEGGI E REGOLAMENTI DELLA FOTOGRAFIA"
Sabato 11 marzo 2017 – ore 17.00
A cura del Magistrato dott.ssa Zaira Secchi
OCCASIONE UNICA!
LOCATION:Via Latina, 515
END:VEVENT
END:VCALENDAR
