BEGIN:VCALENDAR
VERSION:2.0
PRODID:-//Associazione Graffiti
CALSCALE:GREGORIAN
METHOD:PUBLISH
X-WR-CALNAME:Associazione Graffiti
X-ORIGINAL-URL:https://graffitiscuola.it/event/inaugurazione-mostra-fotografica-professione-reporter-sabato-4-febbraio-2017-ore-18/
X-WR-CALDESC:Mostra Fotografica &#8220;PROFESSIONE REPORTER&#8221; &#8211; Febbraio 2017
BEGIN:VEVENT
DTSTART:20170204T180000
DTEND:20170309T120000
SUMMARY:Mostra Fotografica &#8220;PROFESSIONE REPORTER&#8221; &#8211; Febbraio 2017
DESCRIPTION:Sabato 4 febbraio 2017 ore 18 
INAUGURAZIONE MOSTRA FOTOGRAFICA "PROFESSIONE REPORTER" - Allievi Corso Reportage
INGRESSO LIBERO
LOCATION:Via Latina, 515
END:VEVENT
END:VCALENDAR
