BEGIN:VCALENDAR
VERSION:2.0
PRODID:-//Associazione Graffiti
CALSCALE:GREGORIAN
METHOD:PUBLISH
X-WR-CALNAME:Associazione Graffiti
X-ORIGINAL-URL:https://graffitiscuola.it/event/mostra-fotografica-emiliano-pinnizzotto-festival-dei-diritti-todi-25-gennaio-2017/
X-WR-CALDESC:Mostra Fotografica &#8220;Not so Alone&#8221; di Emiliano Pinnizzotto &#8211; Festival dei Diritti a Todi &#8211; Mercoledì 25 gennaio 2017
BEGIN:VEVENT
DTSTART:20170125T000000
DTEND:
SUMMARY:Mostra Fotografica &#8220;Not so Alone&#8221; di Emiliano Pinnizzotto &#8211; Festival dei Diritti a Todi &#8211; Mercoledì 25 gennaio 2017
DESCRIPTION:Mercoledì 25 gennaio 2017 ore 12 
INAUGURAZIONE MOSTRA FOTOGRAFICA "NOT SO ALONE" DI EMILIANO PINNIZZOTTO
IN OCCASIONE DEL FESTIVAL DIRITTI A TODI - "INTERNATIONAL FILM FESTIVAL HUMAN RIGHTS"
LOCATION:Sala delle Pietre Palazzi Comunali - Piazza del Popolo - Todi (PG)
END:VEVENT
END:VCALENDAR
