BEGIN:VCALENDAR
VERSION:2.0
PRODID:-//Associazione Graffiti
CALSCALE:GREGORIAN
METHOD:PUBLISH
X-WR-CALNAME:Associazione Graffiti
X-ORIGINAL-URL:https://graffitiscuola.it/event/presentazione-master-editing-del-direttore-della-graffiti-gianni-pinnizzotto-sabato-21-gennaio-2017-ore-16/
X-WR-CALDESC:Presentazione Nuovo Master di Editing del Direttore della Graffiti Gianni Pinnizzotto &#8211; Sabato 21 gennaio 2017 &#8211; ore 16
BEGIN:VEVENT
DTSTART:20170121T160000
DTEND:20170121T180000
SUMMARY:Presentazione Nuovo Master di Editing del Direttore della Graffiti Gianni Pinnizzotto &#8211; Sabato 21 gennaio 2017 &#8211; ore 16
DESCRIPTION:PRESENTAZIONE DEL NUOVO MASTER DI EDITING DEL DIRETTORE DELLA GRAFFITI GIANNI PINNIZZOTTO
Sabato 21 gennaio 2017 - ore 16
LOCATION:Via Latina, 515
END:VEVENT
END:VCALENDAR
