BEGIN:VCALENDAR
VERSION:2.0
PRODID:-//Associazione Graffiti
CALSCALE:GREGORIAN
METHOD:PUBLISH
X-WR-CALNAME:Associazione Graffiti
X-ORIGINAL-URL:https://graffitiscuola.it/event/libro-fotografico-obiettivo-palestina-federico-palmieri-edizione-graffiti/
X-WR-CALDESC:Libro fotografico: “Obiettivo Palestina” di Federico Palmieri Edizione Graffiti
BEGIN:VEVENT
DTSTART:
DTEND:
SUMMARY:Libro fotografico: “Obiettivo Palestina” di Federico Palmieri Edizione Graffiti
DESCRIPTION:Libro Fotografico: “Obiettivo Palestina” di Federico Palmieri Edizione GRAFFITI
LOCATION:Via Latina, 515
END:VEVENT
END:VCALENDAR
