BEGIN:VCALENDAR
VERSION:2.0
PRODID:-//Associazione Graffiti
CALSCALE:GREGORIAN
METHOD:PUBLISH
X-WR-CALNAME:Associazione Graffiti
X-ORIGINAL-URL:https://graffitiscuola.it/event/presentazione-libro-fotografico-obiettivo-palestina-federico-palmieri-sabato-28-gennaio-2017-ore-18/
X-WR-CALDESC:Presentazione Libro Fotografico: “Obiettivo Palestina&#8221; di Federico Palmieri &#8211; Sabato 28 gennaio 2017 &#8211; ore 18
BEGIN:VEVENT
DTSTART:20170128T180000
DTEND:
SUMMARY:Presentazione Libro Fotografico: “Obiettivo Palestina&#8221; di Federico Palmieri &#8211; Sabato 28 gennaio 2017 &#8211; ore 18
DESCRIPTION:Presentazione Libro Fotografico Graffiti: “OBIETTIVO PALESTINA” di Federico Palmieri
Sabato 28 gennaio 2017 ore 18
La Feltrinelli 
Galleria Alberto Sordi - Roma
LOCATION:Galleria Alberto Sordi - Roma
END:VEVENT
END:VCALENDAR
