BEGIN:VCALENDAR
VERSION:2.0
PRODID:-//Associazione Graffiti
CALSCALE:GREGORIAN
METHOD:PUBLISH
X-WR-CALNAME:Associazione Graffiti
X-ORIGINAL-URL:https://graffitiscuola.it/event/libro-fotografico-luce-narrazione-autori-vari-edizione-graffiti/
X-WR-CALDESC:Libro fotografico: “Luce come narrazione” di Autori Vari Edizione GRAFFITI
BEGIN:VEVENT
DTSTART:
DTEND:
SUMMARY:Libro fotografico: “Luce come narrazione” di Autori Vari Edizione GRAFFITI
DESCRIPTION:Libro fotografico: “LUCE COME NARRAZIONE” di Autori Vari Edizione GRAFFITI
LOCATION:Via Latina, 515
END:VEVENT
END:VCALENDAR
