BEGIN:VCALENDAR
VERSION:2.0
PRODID:-//Associazione Graffiti
CALSCALE:GREGORIAN
METHOD:PUBLISH
X-WR-CALNAME:Associazione Graffiti
X-ORIGINAL-URL:https://graffitiscuola.it/event/photolux-festival-lucca-2017/
X-WR-CALDESC:Graffiti al Photolux Festival di Lucca 2017
BEGIN:VEVENT
DTSTART:20171125T090000
DTEND:20171126T180000
SUMMARY:Graffiti al Photolux Festival di Lucca 2017
DESCRIPTION:Graffiti al Photolux Festival di Lucca 2017
LOCATION:
END:VEVENT
END:VCALENDAR
