BEGIN:VCALENDAR
VERSION:2.0
PRODID:-//Associazione Graffiti
CALSCALE:GREGORIAN
METHOD:PUBLISH
X-WR-CALNAME:Associazione Graffiti
X-ORIGINAL-URL:https://graffitiscuola.it/event/2937/
X-WR-CALDESC:Mostra Fotografica &#8220;RITORNO ALL&#8217;ANALOGICO&#8221; &#8211; Gennaio 2017
BEGIN:VEVENT
DTSTART:20170121T180000
DTEND:20170202T180000
SUMMARY:Mostra Fotografica &#8220;RITORNO ALL&#8217;ANALOGICO&#8221; &#8211; Gennaio 2017
DESCRIPTION:Sabato 21 gennaio 2017 ore 18 
INAUGURAZIONE MOSTRA FOTOGRAFICA "RITORNO ALL'ANALOGICO" 
INGRESSO LIBERO
LOCATION:Via Latina, 515
END:VEVENT
END:VCALENDAR
