BEGIN:VCALENDAR
VERSION:2.0
PRODID:-//Associazione Graffiti
CALSCALE:GREGORIAN
METHOD:PUBLISH
X-WR-CALNAME:Associazione Graffiti
X-ORIGINAL-URL:https://graffitiscuola.it/event/viaggio-fotografico-reportage-terra-santa-pasqua-2017/
X-WR-CALDESC:Viaggio Fotografico &#8211; Reportage in Terra Santa &#8211; Pasqua: 8/17 Aprile 2017
BEGIN:VEVENT
DTSTART:20170408T070000
DTEND:20170417T100000
SUMMARY:Viaggio Fotografico &#8211; Reportage in Terra Santa &#8211; Pasqua: 8/17 Aprile 2017
DESCRIPTION:Viaggio Fotografico - Reportage in Terra Santa
Pasqua: dall'8 al 17 Aprile 2017
Direzione e Docenza: Gianni Pinnizzotto
LOCATION:
END:VEVENT
END:VCALENDAR
