BEGIN:VCALENDAR
VERSION:2.0
PRODID:-//Associazione Graffiti
CALSCALE:GREGORIAN
METHOD:PUBLISH
X-WR-CALNAME:Associazione Graffiti
X-ORIGINAL-URL:https://graffitiscuola.it/event/presentazione-libro-fotografico-luce-narrazione-autori-vari-sabato-17-dicembre-2016-ore-19/
X-WR-CALDESC:Presentazione Libro Fotografico: “Luce come Narrazione&#8221; di Autori Vari &#8211; Sabato 17 Dicembre 2016 ore 18
BEGIN:VEVENT
DTSTART:20161217T180000
DTEND:
SUMMARY:Presentazione Libro Fotografico: “Luce come Narrazione&#8221; di Autori Vari &#8211; Sabato 17 Dicembre 2016 ore 18
DESCRIPTION:Presentazione Libro Fotografico Graffiti: “LUCE COME NARRAZIONE” di Autori Vari
Sabato 17 dicembre 2016 ore 18
Galleria SMAC - Roma
LOCATION:Via Velletri, 30
END:VEVENT
END:VCALENDAR
