BEGIN:VCALENDAR
VERSION:2.0
PRODID:-//Associazione Graffiti
CALSCALE:GREGORIAN
METHOD:PUBLISH
X-WR-CALNAME:Associazione Graffiti
X-ORIGINAL-URL:https://graffitiscuola.it/event/presentazione-libro-mostra-fotografica-mongolia-taccuino-silenzi-paolo-sollazzo/
X-WR-CALDESC:Presentazione Libro e Mostra Fotografica: “Mongolia &#8211; Taccuino di Silenzi” di Paolo Sollazzo Sabato 3 Dicembre 2016 ore 20
BEGIN:VEVENT
DTSTART:20161203T200000
DTEND:20161210T180000
SUMMARY:Presentazione Libro e Mostra Fotografica: “Mongolia &#8211; Taccuino di Silenzi” di Paolo Sollazzo Sabato 3 Dicembre 2016 ore 20
DESCRIPTION:Presentazione Libro e Inaugurazione Mostra Fotografica: “MONGOLIA - TACCUINO DI SILENZI” di Paolo Sollazzo
Mostra dal 3 al 10 Dicembre 2016 (orario 11/18 - ingresso libero)
Galleria SMAC, Roma
LOCATION:Via Velletri, 30
END:VEVENT
END:VCALENDAR
