BEGIN:VCALENDAR
VERSION:2.0
PRODID:-//Associazione Graffiti
CALSCALE:GREGORIAN
METHOD:PUBLISH
X-WR-CALNAME:Associazione Graffiti
X-ORIGINAL-URL:https://graffitiscuola.it/event/proiezione-del-film-lalba-del-mondo-cena-araba-sabato-19-novembre-2016/
X-WR-CALDESC:Proiezione del Film &#8220;L’alba del mondo&#8221; e cena araba &#8211; Sabato 19 novembre 2016
BEGIN:VEVENT
DTSTART:20161119T190000
DTEND:20161119T223000
SUMMARY:Proiezione del Film &#8220;L’alba del mondo&#8221; e cena araba &#8211; Sabato 19 novembre 2016
DESCRIPTION:Proiezione del Film "L’alba del mondo" e cena araba
Sabato 19 novembre 2016
LOCATION:Via Latina, 515
END:VEVENT
END:VCALENDAR
