BEGIN:VCALENDAR
VERSION:2.0
PRODID:-//Associazione Graffiti
CALSCALE:GREGORIAN
METHOD:PUBLISH
X-WR-CALNAME:Associazione Graffiti
X-ORIGINAL-URL:https://graffitiscuola.it/event/workshop-fotografico-glamour-ritratto/
X-WR-CALDESC:Workshop Fotografico di Glamour e Ritratto &#8211; Sabato 12 novembre 2016
BEGIN:VEVENT
DTSTART:20161112T090000
DTEND:20161112T130000
SUMMARY:Workshop Fotografico di Glamour e Ritratto &#8211; Sabato 12 novembre 2016
DESCRIPTION:WORKSHOP FOTOGRAFICO DI GLAMOUR E RITRATTO
Sabato 12 novembre 2016
LOCATION:Via Latina, 515
END:VEVENT
END:VCALENDAR
