BEGIN:VCALENDAR
VERSION:2.0
PRODID:-//Associazione Graffiti
CALSCALE:GREGORIAN
METHOD:PUBLISH
X-WR-CALNAME:Associazione Graffiti
X-ORIGINAL-URL:https://graffitiscuola.it/event/visita-guidata-mostra-edward-hopper-9-ottobre-2016/
X-WR-CALDESC:Visita guidata Mostra di Edward Hopper &#8211; 9 Ottobre 2016
BEGIN:VEVENT
DTSTART:20161009T150000
DTEND:20161009T170000
SUMMARY:Visita guidata Mostra di Edward Hopper &#8211; 9 Ottobre 2016
DESCRIPTION:VISITA GUIDATA GRATUITA
A CURA DEL DIRETTORE GIANNI PINNIZZOTTO
LOCATION:Via Latina, 515
END:VEVENT
END:VCALENDAR
