BEGIN:VCALENDAR
VERSION:2.0
PRODID:-//Associazione Graffiti
CALSCALE:GREGORIAN
METHOD:PUBLISH
X-WR-CALNAME:Associazione Graffiti
X-ORIGINAL-URL:https://graffitiscuola.it/event/mostra-fotografica-forma-volume-superficie-colore-autori-vari-graffiti/
X-WR-CALDESC:Mostra Fotografica &#8220;FORMA VOLUME SUPERFICIE COLORE&#8221; di Autori Vari &#8211; Graffiti
BEGIN:VEVENT
DTSTART:20160924T190000
DTEND:20161021T190000
SUMMARY:Mostra Fotografica &#8220;FORMA VOLUME SUPERFICIE COLORE&#8221; di Autori Vari &#8211; Graffiti
DESCRIPTION:Mostra Fotografica: "FORMA VOLUME SUPERFICIE COLORE" di Autori Vari
24 Settembre - 21 Ottobre 2016
Sala Espositiva Graffiti - Via Latina, 515
LOCATION:Via Latina, 515
END:VEVENT
END:VCALENDAR
