BEGIN:VCALENDAR
VERSION:2.0
PRODID:-//Associazione Graffiti
CALSCALE:GREGORIAN
METHOD:PUBLISH
X-WR-CALNAME:Associazione Graffiti
X-ORIGINAL-URL:https://graffitiscuola.it/event/workshop-fotografia-glamour/
X-WR-CALDESC:Workshop Fotografico &#8220;GLAMOUR&#8221;
BEGIN:VEVENT
DTSTART:20161008T090000
DTEND:20161009T190000
SUMMARY:Workshop Fotografico &#8220;GLAMOUR&#8221;
DESCRIPTION:WORKSHOP DI FOTOGRAFIA 
"GLAMOUR"
Hotel Calabona - Alghero (Sardegna)
Ottobre 2016
LOCATION:Località Calabona, Aghero (Sardegna)
END:VEVENT
END:VCALENDAR
