BEGIN:VCALENDAR
VERSION:2.0
PRODID:-//Associazione Graffiti
CALSCALE:GREGORIAN
METHOD:PUBLISH
X-WR-CALNAME:Associazione Graffiti
X-ORIGINAL-URL:https://graffitiscuola.it/event/visita-guidata-mostra-fotografica-domon-ken-10-settembre-2016/
X-WR-CALDESC:Visita guidata Mostra Fotografica Domon Ken &#8211; 10 Settembre 2016
BEGIN:VEVENT
DTSTART:20160910T163000
DTEND:20160910T183000
SUMMARY:Visita guidata Mostra Fotografica Domon Ken &#8211; 10 Settembre 2016
DESCRIPTION:VISITA GUIDATA GRATUITA
A CURA DEL DIRETTORE GIANNI PINNIZZOTTO
LOCATION:Via Latina, 515
END:VEVENT
END:VCALENDAR
