BEGIN:VCALENDAR
VERSION:2.0
PRODID:-//Associazione Graffiti
CALSCALE:GREGORIAN
METHOD:PUBLISH
X-WR-CALNAME:Associazione Graffiti
X-ORIGINAL-URL:https://graffitiscuola.it/event/workshop-fotografico-ritorno-allanalogico-settembre-2016/
X-WR-CALDESC:Workshop Fotografico &#8220;Ritorno all&#8217;Analogico&#8221; &#8211; Settembre 2016
BEGIN:VEVENT
DTSTART:20160908T193000
DTEND:20160916T210000
SUMMARY:Workshop Fotografico &#8220;Ritorno all&#8217;Analogico&#8221; &#8211; Settembre 2016
DESCRIPTION:WORKSHOP DI FOTOGRAFIA
"RITORNO ALL'ANALOGICO"
Settembre 2016
LOCATION:Via Latina, 5151
END:VEVENT
END:VCALENDAR
