BEGIN:VCALENDAR
VERSION:2.0
PRODID:-//Associazione Graffiti
CALSCALE:GREGORIAN
METHOD:PUBLISH
X-WR-CALNAME:Associazione Graffiti
X-ORIGINAL-URL:https://graffitiscuola.it/event/mostra-fotografica-antarctica-paolo-beltrame-libreria-mfr/
X-WR-CALDESC:Mostra Fotografica &#8220;ANTARCTICA&#8221; di Paolo Beltrame &#8211; Explora
BEGIN:VEVENT
DTSTART:
DTEND:
SUMMARY:Mostra Fotografica &#8220;ANTARCTICA&#8221; di Paolo Beltrame &#8211; Explora
DESCRIPTION:Mostra Fotografica: "ANTARCTICA" di Paolo Beltrame
1 - 31 Marzo 2019
Explora . Museo dei Bambini (Area Bookshop) 
LOCATION:Via Flaminia, 80/86 - Roma
END:VEVENT
END:VCALENDAR
