BEGIN:VCALENDAR
VERSION:2.0
PRODID:-//Associazione Graffiti
CALSCALE:GREGORIAN
METHOD:PUBLISH
X-WR-CALNAME:Associazione Graffiti
X-ORIGINAL-URL:https://graffitiscuola.it/event/mostra-fotografica-dissolvenze-paolo-sollazzo-2/
X-WR-CALDESC:Mostra Fotografica &#8220;DISSOLVENZE&#8221; di Paolo Sollazzo &#8211; Gerusalemme
BEGIN:VEVENT
DTSTART:20160723T180000
DTEND:20160729T200000
SUMMARY:Mostra Fotografica &#8220;DISSOLVENZE&#8221; di Paolo Sollazzo &#8211; Gerusalemme
DESCRIPTION:Mostra Fotografica: “DISSOLVENZE” di Paolo Sollazzo
23 - 29 Luglio 2016
Gerusalemme - “Dar Issaf Nashashibi For Cultural, Arts & Literature”
LOCATION:Gerusalemme
END:VEVENT
END:VCALENDAR
