BEGIN:VCALENDAR
VERSION:2.0
PRODID:-//Associazione Graffiti
CALSCALE:GREGORIAN
METHOD:PUBLISH
X-WR-CALNAME:Associazione Graffiti
X-ORIGINAL-URL:https://graffitiscuola.it/event/workshop-fotografico-ritorno-allanalogico-luglio-2016/
X-WR-CALDESC:Workshop Fotografico &#8220;Ritorno all&#8217;Analogico&#8221; &#8211; Luglio 2016
BEGIN:VEVENT
DTSTART:20160706T193000
DTEND:20160715T210000
SUMMARY:Workshop Fotografico &#8220;Ritorno all&#8217;Analogico&#8221; &#8211; Luglio 2016
DESCRIPTION:WORKSHOP DI FOTOGRAFIA
"RITORNO ALL'ANALOGICO"
Luglio 2016
LOCATION:Via Latina, 515
END:VEVENT
END:VCALENDAR
