BEGIN:VCALENDAR
VERSION:2.0
PRODID:-//Associazione Graffiti
CALSCALE:GREGORIAN
METHOD:PUBLISH
X-WR-CALNAME:Associazione Graffiti
X-ORIGINAL-URL:https://graffitiscuola.it/event/borsa-di-studio-2014-2015/
X-WR-CALDESC:Edizione 2014/2015 Giuria: Gianni Berengo Gardin
BEGIN:VEVENT
DTSTART:20140101T000000
DTEND:20140603T000000
SUMMARY:Edizione 2014/2015 Giuria: Gianni Berengo Gardin
DESCRIPTION:III Edizione Borsa di Studio Graffiti "Rolando Fava"
Giurato: Gianni Berengo Gardin
LOCATION:Via Latina, 515
END:VEVENT
END:VCALENDAR
