BEGIN:VCALENDAR
VERSION:2.0
PRODID:-//Associazione Graffiti
CALSCALE:GREGORIAN
METHOD:PUBLISH
X-WR-CALNAME:Associazione Graffiti
X-ORIGINAL-URL:https://graffitiscuola.it/event/escursione-fotografica-civita-bagnoregio-la-citta-muore/
X-WR-CALDESC:Escursione Fotografica: &#8220;Civita di Bagnoregio &#8211; La città che muore&#8221;
BEGIN:VEVENT
DTSTART:20150208T090000
DTEND:20150208T180000
SUMMARY:Escursione Fotografica: &#8220;Civita di Bagnoregio &#8211; La città che muore&#8221;
DESCRIPTION:ESCURSIONE FOTOGRAFICA
"CIVITA DI BAGNOREGIO - LA CITTA' CHE MUORE"
LOCATION:Via Latina, 515
END:VEVENT
END:VCALENDAR
