BEGIN:VCALENDAR
VERSION:2.0
PRODID:-//Associazione Graffiti
CALSCALE:GREGORIAN
METHOD:PUBLISH
X-WR-CALNAME:Associazione Graffiti
X-ORIGINAL-URL:https://graffitiscuola.it/event/escursione-fotografica-naturalistica/
X-WR-CALDESC:Escursione Fotografica Naturalistica: &#8220;La Valle del Treja&#8221;
BEGIN:VEVENT
DTSTART:20150412T090000
DTEND:20150412T173000
SUMMARY:Escursione Fotografica Naturalistica: &#8220;La Valle del Treja&#8221;
DESCRIPTION:ESCURSIONE FOTOGRAFICA NATURALISTICA
“LA VALLE DEL TREJA”
LOCATION:Via Latina, 515
END:VEVENT
END:VCALENDAR
