BEGIN:VCALENDAR
VERSION:2.0
PRODID:-//Associazione Graffiti
CALSCALE:GREGORIAN
METHOD:PUBLISH
X-WR-CALNAME:Associazione Graffiti
X-ORIGINAL-URL:https://graffitiscuola.it/event/escursione-fotografica-naturalistica-la-citta-abbandonata-galeria-le-rovine-veio/
X-WR-CALDESC:Escursione Fotografica Naturalistica: &#8220;La città abbandonata di Galeria &#8211; Le rovine di Veio&#8221;
BEGIN:VEVENT
DTSTART:20150614T090000
DTEND:20150614T173000
SUMMARY:Escursione Fotografica Naturalistica: &#8220;La città abbandonata di Galeria &#8211; Le rovine di Veio&#8221;
DESCRIPTION:ESCURSIONE FOTOGRAFICA NATURALISTICA
"LA CITTÀ ABBANDONATA DI GALERIA - LE ROVINE DI VEIO"
LOCATION:Via Latina, 515
END:VEVENT
END:VCALENDAR
