BEGIN:VCALENDAR
VERSION:2.0
PRODID:-//Associazione Graffiti
CALSCALE:GREGORIAN
METHOD:PUBLISH
X-WR-CALNAME:Associazione Graffiti
X-ORIGINAL-URL:https://graffitiscuola.it/event/escursione-fotografica-posto-segreto-delle-lucciole/
X-WR-CALDESC:Escursione Fotografica &#8211; &#8220;Il posto segreto delle lucciole&#8221;
BEGIN:VEVENT
DTSTART:20140704T210000
DTEND:20140705T020000
SUMMARY:Escursione Fotografica &#8211; &#8220;Il posto segreto delle lucciole&#8221;
DESCRIPTION:ESCURSIONE FOTOGRAFICA NOTTURNA
"IL POSTO SEGRETO DELLE LUCCIOLE"
LOCATION:Via Latina, 515
END:VEVENT
END:VCALENDAR
