BEGIN:VCALENDAR
VERSION:2.0
PRODID:-//Associazione Graffiti
CALSCALE:GREGORIAN
METHOD:PUBLISH
X-WR-CALNAME:Associazione Graffiti
X-ORIGINAL-URL:https://graffitiscuola.it/event/trekking-urbano-fotografico-pittori-anonimi-trullo/
X-WR-CALDESC:Escursione Fotografica &#8211; &#8220;Il Giardino dei Tarocchi&#8221;
BEGIN:VEVENT
DTSTART:20150301T090000
DTEND:20150301T170000
SUMMARY:Escursione Fotografica &#8211; &#8220;Il Giardino dei Tarocchi&#8221;
DESCRIPTION:ESCURSIONE FOTOGRAFICA
"IL GIARDINO DEI TAROCCHI"
LOCATION:Via Latina, 5151
END:VEVENT
END:VCALENDAR
