BEGIN:VCALENDAR
VERSION:2.0
PRODID:-//Associazione Graffiti
CALSCALE:GREGORIAN
METHOD:PUBLISH
X-WR-CALNAME:Associazione Graffiti
X-ORIGINAL-URL:https://graffitiscuola.it/event/trekking-urbano-fotografico/
X-WR-CALDESC:Trekking Urbano Fotografico &#8211; &#8220;Pittori Anonimi Trullo&#8221;
BEGIN:VEVENT
DTSTART:20141220T100000
DTEND:20141220T130000
SUMMARY:Trekking Urbano Fotografico &#8211; &#8220;Pittori Anonimi Trullo&#8221;
DESCRIPTION:TREKKING URBANO FOTOGRAFICO
"PITTORI ANONIMI TRULLO"
LOCATION:
END:VEVENT
END:VCALENDAR
