BEGIN:VCALENDAR
VERSION:2.0
PRODID:-//Associazione Graffiti
CALSCALE:GREGORIAN
METHOD:PUBLISH
X-WR-CALNAME:Associazione Graffiti
X-ORIGINAL-URL:https://graffitiscuola.it/event/mostra-fotografica-primi-impatti-allievi-corso-base-giugno-2016/
X-WR-CALDESC:Mostra Fotografica &#8220;PRIMI IMPATTI&#8221; &#8211; Giugno 2016
BEGIN:VEVENT
DTSTART:20160625T000000
DTEND:20160708T000000
SUMMARY:Mostra Fotografica &#8220;PRIMI IMPATTI&#8221; &#8211; Giugno 2016
DESCRIPTION:MOSTRA FOTOGRAFICA "PRIMI IMPATTI"
Allievi Graffiti - Corso Base Fotografia Generale
25 Giugno - 8 Luglio 2016
LOCATION:Via Latina, 515
END:VEVENT
END:VCALENDAR
