BEGIN:VCALENDAR
VERSION:2.0
PRODID:-//Associazione Graffiti
CALSCALE:GREGORIAN
METHOD:PUBLISH
X-WR-CALNAME:Associazione Graffiti
X-ORIGINAL-URL:https://graffitiscuola.it/event/mostra-fotografica-grand-maestri-del-cinema-italiano-gianni-pinnizzotto/
X-WR-CALDESC:Mostra Fotografica: “I Grandi Maestri del Cinema Italiano” di Gianni Pinnizzotto &#8211; Lima, Perù
BEGIN:VEVENT
DTSTART:20120711T000000
DTEND:20120731T000000
SUMMARY:Mostra Fotografica: “I Grandi Maestri del Cinema Italiano” di Gianni Pinnizzotto &#8211; Lima, Perù
DESCRIPTION:Mostra Fotografica: “I GRANDI MAESTRI DEL CINEMA ITALIANO” di Gianni Pinnizzotto
11 - 31 Luglio 2012
Sala Paracas - Museo de la Naciòn - Lima, Perù
LOCATION:
END:VEVENT
END:VCALENDAR
