BEGIN:VCALENDAR
VERSION:2.0
PRODID:-//Associazione Graffiti
CALSCALE:GREGORIAN
METHOD:PUBLISH
X-WR-CALNAME:Associazione Graffiti
X-ORIGINAL-URL:https://graffitiscuola.it/event/trekking-urbano-fotografico-muro-muro/
X-WR-CALDESC:Trekking Urbano Fotografico: &#8220;Di Muro in Muro!&#8221;
BEGIN:VEVENT
DTSTART:20150301T100000
DTEND:20150301T133000
SUMMARY:Trekking Urbano Fotografico: &#8220;Di Muro in Muro!&#8221;
DESCRIPTION:TREKKING URBANO FOTOGRAFICO
"DI MURO IN MURO!"
STREET-ART ROMA
LOCATION:Via Latina, 515
END:VEVENT
END:VCALENDAR
