BEGIN:VCALENDAR
VERSION:2.0
PRODID:-//Associazione Graffiti
CALSCALE:GREGORIAN
METHOD:PUBLISH
X-WR-CALNAME:Associazione Graffiti
X-ORIGINAL-URL:https://graffitiscuola.it/event/trekking-urbano-fotografico-vaticano-dintorni/
X-WR-CALDESC:Trekking Urbano Fotografico: &#8220;Vaticano e dintorni&#8221;
BEGIN:VEVENT
DTSTART:20151128T093000
DTEND:20151128T133000
SUMMARY:Trekking Urbano Fotografico: &#8220;Vaticano e dintorni&#8221;
DESCRIPTION:TREKKING URBANO FOTOGRAFICO
"VATICANO E DINTORNI"
LOCATION:Via Latina, 515
END:VEVENT
END:VCALENDAR
