BEGIN:VCALENDAR
VERSION:2.0
PRODID:-//Associazione Graffiti
CALSCALE:GREGORIAN
METHOD:PUBLISH
X-WR-CALNAME:Associazione Graffiti
X-ORIGINAL-URL:https://graffitiscuola.it/event/master-estetica-dellimmagine-composizione-avanzata/
X-WR-CALDESC:Viaggio Fotografico &#8211; Reportage in Tunisia 19 &#8211; 27 Agosto 2016
BEGIN:VEVENT
DTSTART:20160819T000000
DTEND:20160827T000000
SUMMARY:Viaggio Fotografico &#8211; Reportage in Tunisia 19 &#8211; 27 Agosto 2016
DESCRIPTION:Viaggio Fotografico - Reportage in Tunisia 19 - 27 Agosto 2016
LOCATION:Via Latina, 515
END:VEVENT
END:VCALENDAR
