BEGIN:VCALENDAR
VERSION:2.0
PRODID:-//Associazione Graffiti
CALSCALE:GREGORIAN
METHOD:PUBLISH
X-WR-CALNAME:Associazione Graffiti
X-ORIGINAL-URL:https://graffitiscuola.it/event/visita-guidata-mostra-fotografica-gianni-berengo-gardin/
X-WR-CALDESC:Visita guidata Mostra Fotografica Gianni Berengo Gardin &#8211; 12 Giugno 2016
BEGIN:VEVENT
DTSTART:20160612T110000
DTEND:20160612T130000
SUMMARY:Visita guidata Mostra Fotografica Gianni Berengo Gardin &#8211; 12 Giugno 2016
DESCRIPTION:VISITA GUIDATA GRATUITA
A CURA DEL DIRETTORE GIANNI PINNIZZOTTO

LOCATION:Via Latina, 515
END:VEVENT
END:VCALENDAR
