BEGIN:VCALENDAR
VERSION:2.0
PRODID:-//Associazione Graffiti
CALSCALE:GREGORIAN
METHOD:PUBLISH
X-WR-CALNAME:Associazione Graffiti
X-ORIGINAL-URL:https://graffitiscuola.it/event/visita-guidata-mostra-fotografica-world-press-photo/
X-WR-CALDESC:Visita guidata Mostra Fotografica Mario Giacomelli &#8211; 17 Aprile 2016
BEGIN:VEVENT
DTSTART:20160417T110000
DTEND:20160417T130000
SUMMARY:Visita guidata Mostra Fotografica Mario Giacomelli &#8211; 17 Aprile 2016
DESCRIPTION:VISITA GUIDATA GRATUITA
A CURA DEL DIRETTORE GIANNI PINNIZZOTTO
LOCATION:Via Latina, 515
END:VEVENT
END:VCALENDAR
