BEGIN:VCALENDAR
VERSION:2.0
PRODID:-//Associazione Graffiti
CALSCALE:GREGORIAN
METHOD:PUBLISH
X-WR-CALNAME:Associazione Graffiti
X-ORIGINAL-URL:https://graffitiscuola.it/event/workshop-full-immersion-adobe-lightroom-2/
X-WR-CALDESC:Workshop Full-immersion Adobe Lightroom &#8211; 14 Maggio 2016
BEGIN:VEVENT
DTSTART:20160514T100000
DTEND:20160514T170000
SUMMARY:Workshop Full-immersion Adobe Lightroom &#8211; 14 Maggio 2016
DESCRIPTION:WORKSHOP FULL IMMERSION 
ADOBE LIGHTROOM
LOCATION:Via Latina, 515
END:VEVENT
END:VCALENDAR
