BEGIN:VCALENDAR
VERSION:2.0
PRODID:-//Associazione Graffiti
CALSCALE:GREGORIAN
METHOD:PUBLISH
X-WR-CALNAME:Associazione Graffiti
X-ORIGINAL-URL:https://graffitiscuola.it/event/workshop-full-immersion-adobe-lightroom/
X-WR-CALDESC:Workshop Full- Immersion Adobe Lightroom &#8211; 21 Luglio 2015
BEGIN:VEVENT
DTSTART:20150721T100000
DTEND:20150721T170000
SUMMARY:Workshop Full- Immersion Adobe Lightroom &#8211; 21 Luglio 2015
DESCRIPTION:WORKSHOP FULL IMMERSION
ADOBE LIGHTROOM
LOCATION:Via Latina, 5151
END:VEVENT
END:VCALENDAR
