BEGIN:VCALENDAR
VERSION:2.0
PRODID:-//Associazione Graffiti
CALSCALE:GREGORIAN
METHOD:PUBLISH
X-WR-CALNAME:Associazione Graffiti
X-ORIGINAL-URL:https://graffitiscuola.it/event/workshop-in-toscana/
X-WR-CALDESC:Weekend Fotografico &#8211; Workshop in Toscana &#8211; Val d&#8217;Orcia: 9/11 Dicembre 2016
BEGIN:VEVENT
DTSTART:20161209T093000
DTEND:20161211T190000
SUMMARY:Weekend Fotografico &#8211; Workshop in Toscana &#8211; Val d&#8217;Orcia: 9/11 Dicembre 2016
DESCRIPTION:Weekend Fotografico - Workshop in Toscana: 9 - 11 dicembre 2016

LOCATION:Via Latina, 515
END:VEVENT
END:VCALENDAR
