BEGIN:VCALENDAR
VERSION:2.0
PRODID:-//Associazione Graffiti
CALSCALE:GREGORIAN
METHOD:PUBLISH
X-WR-CALNAME:Associazione Graffiti
X-ORIGINAL-URL:https://graffitiscuola.it/event/postproduzione/
X-WR-CALDESC:Postproduzione e Scansione Professionale
BEGIN:VEVENT
DTSTART:
DTEND:
SUMMARY:Postproduzione e Scansione Professionale
DESCRIPTION:SERVIZIO DI POSTPRODUZIONE PROFESSIONALE 
SERVZIO DI SCANSIONE DIAPOSITIVE E NEGATIVI
LOCATION:Via Latina, 515
END:VEVENT
END:VCALENDAR
