BEGIN:VCALENDAR
VERSION:2.0
PRODID:-//Associazione Graffiti
CALSCALE:GREGORIAN
METHOD:PUBLISH
X-WR-CALNAME:Associazione Graffiti
X-ORIGINAL-URL:https://graffitiscuola.it/event/viaggio-fotografico-in-peru/
X-WR-CALDESC:Viaggio Fotografico in Perù &#8211; 14/28 Luglio 2015
BEGIN:VEVENT
DTSTART:20150714T000000
DTEND:20150729T000000
SUMMARY:Viaggio Fotografico in Perù &#8211; 14/28 Luglio 2015
DESCRIPTION:VIAGGIO FOTOGRAFICO - REPORTAGE 
PERU' - Luglio 2015
LOCATION:
END:VEVENT
END:VCALENDAR
